BEGIN:VCALENDAR
VERSION:2.0
PRODID:-//ChamberMaster//Event Calendar 2.0//EN
METHOD:PUBLISH
X-PUBLISHED-TTL:P3D
REFRESH-INTERVAL:P3D
CALSCALE:GREGORIAN
BEGIN:VEVENT
DTSTART:20121012T003000Z
DTEND:20121012T003000Z
X-MICROSOFT-CDO-ALLDAYEVENT:FALSE
SUMMARY:Broadway Rox
DESCRIPTION:Six of Broadway's hottest performers and a 5-piece rock band come together in the national tour of Broadway Rox – a visually amazing production that celebrates the contemporary musicals of Broadway\, bridging the gap between traditional Broadway musicals and a full-blown Rock Show! Those familiar with GLEE and SMASH will love the awesome mash-ups of their favorite Broadway tunes from shows like Wicked\, Jersey Boys\, Mamma Mia\, Rent\, Rock of Ages and more!  And\, the NWF State College Soundsations Showchoir takes the stage for part of the show alongside Broadway's brightest stars for an energetic  New York and Niceville mix! Tickets are $35 each. Group discount of $5 off per ticket is available for groups of 10 or more. Group sales are by phone or in-person only.
X-ALT-DESC;FMTTYPE=text/html:Six of Broadway's hottest performers and a 5-piece rock band come together in the national tour of Broadway Rox – a visually amazing production that celebrates the contemporary musicals of Broadway\, bridging the gap between traditional Broadway musicals and a full-blown Rock Show! Those familiar with GLEE and SMASH will love the awesome mash-ups of their favorite Broadway tunes from shows like Wicked\, Jersey Boys\, Mamma Mia\, Rent\, Rock of Ages and more!  And\, the NWF State College Soundsations Showchoir takes the stage for part of the show alongside Broadway's brightest stars for an energetic  New York and Niceville mix! Tickets are $35 each. Group discount of $5 off per ticket is available for groups of 10 or more. Group sales are by phone or in-person only. 
LOCATION:100 College Blvd.\, Niceville\, FL 32578 Mattie Kelly Arts Center at Northwest Florida State College\, Mainstage\, 100 College Blvd.\, Niceville\, Fl
UID:e.3173.198
SEQUENCE:3
DTSTAMP:20260420T105143Z
URL:http://greaterfortwaltonbeach.chambermaster.com/events/details/broadway-rox-10-11-2012-198
END:VEVENT

END:VCALENDAR
