BEGIN:VCALENDAR
VERSION:2.0
PRODID:-//ChamberMaster//Event Calendar 2.0//EN
METHOD:PUBLISH
X-PUBLISHED-TTL:P3D
REFRESH-INTERVAL:P3D
CALSCALE:GREGORIAN
BEGIN:VEVENT
DTSTART:20121111T200000Z
DTEND:20121112T000000Z
X-MICROSOFT-CDO-ALLDAYEVENT:FALSE
SUMMARY:Caribbean Classics 850
DESCRIPTION:Tune in to Freedom 94.3 FM & 1400 AM to hear the ONLY Caribbean Radio Show on the Gulf Coast. It's Caribbean Classics 850 brought to you by Dreams of Royalty\, LLC. It's every Sunday from 2pm to 6pm Central Time. Can't get to the radio? Tune in live via Ustream at www.dreamsofroyalty.com\n\n\n\nSponsorships Available.
X-ALT-DESC;FMTTYPE=text/html:<span style="font-size: 16px\;">Tune in to Freedom 94.3 FM &amp\; 1400 AM to hear the ONLY Caribbean Radio Show on the Gulf Coast. It's Caribbean Classics 850 brought to you by Dreams of Royalty\, LLC. It's every Sunday from 2pm to 6pm Central Time. Can't get to the radio? Tune in live via Ustream at www.dreamsofroyalty.com<br />\n<br />\nSponsorships Available.<br />\n<br />\n</span>
LOCATION:21 Miracle Strip Pkwy\, Fort Walton Beach \, FL 32548 Listen to this program on 94.3 FM and 1400 AM on your radio dial.
UID:e.3173.301
SEQUENCE:3
DTSTAMP:20260420T235634Z
URL:http://greaterfortwaltonbeach.chambermaster.com/events/details/caribbean-classics-850-11-11-2012-301
END:VEVENT

END:VCALENDAR
