BEGIN:VCALENDAR
VERSION:2.0
PRODID:-//ChamberMaster//Event Calendar 2.0//EN
METHOD:PUBLISH
X-PUBLISHED-TTL:P3D
REFRESH-INTERVAL:P3D
CALSCALE:GREGORIAN
BEGIN:VEVENT
DTSTART:20121213T013000Z
DTEND:20121213T013000Z
X-MICROSOFT-CDO-ALLDAYEVENT:FALSE
SUMMARY:Cirque Chinois
DESCRIPTION:Direct from Beijing\, the National Circus of the People's Republic of China presents Cirque Chinois\, an international sensation featuring outstanding acts like the Great Teeterboard\, Grand Flying Trapeze\, Group Contortion\, and many more! The National Circus was founded in 1953 and has toured 80 countries around the world\, making it one of the longest running and most distinguished circus troupes in China. The troupe introduced a new "non-animal" performance style   that has reinvented the ancient tradition of the Chinese circus\, influencing the pioneers of "Cirque du Soleil" and performers around the world! \n\n\n\nTickets are $35 each. Group discount of $5 off per ticket is available for groups of 10 or more. Group sales are by phone or in-person only. Mattie Kelly Arts Center at Northwest Florida State College\, Mainstage\, 100 College Blvd.\, Niceville\, Fl. Box Office: (850) 729-6000 or www.mattiekellyartscenter.org.
X-ALT-DESC;FMTTYPE=text/html:<span style="font-size: 16px\;">Direct from Beijing\, the National Circus of the People's Republic of China presents Cirque Chinois\, an international sensation featuring outstanding acts like the Great Teeterboard\, Grand Flying Trapeze\, Group Contortion\, and many more! The National Circus was founded in 1953 and has toured 80 countries around the world\, making it one of the longest running and most distinguished circus troupes in China. The troupe introduced a new "non-animal" performance style &ndash\; that has reinvented the ancient tradition of the Chinese circus\, influencing the pioneers of "Cirque du Soleil" and performers around the world! <br />\n<br />\nTickets are $35 each. Group discount of $5 off per ticket is available for groups of 10 or more. Group sales are by phone or in-person only. Mattie Kelly Arts Center at Northwest Florida State College\, Mainstage\, 100 College Blvd.\, Niceville\, Fl. Box Office: (850) 729-6000 or www.mattiekellyartscenter.org.</span>
LOCATION:100 College Blvd.\, Niceville\, FL 32578 Mattie Kelly Arts Center at Northwest Florida State College\, 100 College Blvd.\, Niceville\, Fl
UID:e.3173.220
SEQUENCE:3
DTSTAMP:20260421T114735Z
URL:http://greaterfortwaltonbeach.chambermaster.com/events/details/cirque-chinois-12-12-2012-220
END:VEVENT

END:VCALENDAR
