BEGIN:VCALENDAR
VERSION:2.0
PRODID:-//ChamberMaster//Event Calendar 2.0//EN
METHOD:PUBLISH
X-PUBLISHED-TTL:P3D
REFRESH-INTERVAL:P3D
CALSCALE:GREGORIAN
BEGIN:VEVENT
DTSTART:20121129T150000Z
DTEND:20121206T190000Z
X-MICROSOFT-CDO-ALLDAYEVENT:FALSE
SUMMARY:Colored Pencil Workshops\, 2 classes
DESCRIPTION:Art Orr\, MFA\,  will offer Adventures in Colored Pencils\, two classes in colored pencil medium\, at the Arts and Design Society's (ADSO) Art Center Studio\, Fort Walton Beach\, on Thursday\, November 29\, and Thursday\, December 6\, from 9:00 a.m. to 1:00 p.m. The course covers many different techniques of color pencil drawing\, using simple motifs. Cost of each day's class is $32/ADSO members\, $35/non-members. Materials will be provided.  For further information\, visit the ADSO website at www.artsdesignsociety.org\, or call 850-244-1271 during office hours\, Tuesday-Friday 12 noon-4 p.m.
X-ALT-DESC;FMTTYPE=text/html:Art Orr\, MFA\,  will offer Adventures in Colored Pencils\, two classes in colored pencil medium\, at the Arts and Design Society's (ADSO) Art Center Studio\, Fort Walton Beach\, on Thursday\, November 29\, and Thursday\, December 6\, from 9:00 a.m. to 1:00 p.m. The course covers many different techniques of color pencil drawing\, using simple motifs. Cost of each day's class is $32/ADSO members\, $35/non-members. Materials will be provided.  For further information\, visit the ADSO website at www.artsdesignsociety.org\, or call 850-244-1271 during office hours\, Tuesday-Friday 12 noon-4 p.m. 
LOCATION:17 First Street\, SE\, Fort Walton Beach\, FL 32548 ADSO Art Center Studio
UID:e.3173.313
SEQUENCE:3
DTSTAMP:20260420T044434Z
URL:http://greaterfortwaltonbeach.chambermaster.com/events/details/colored-pencil-workshops-2-classes-11-29-2012-313
END:VEVENT

END:VCALENDAR
