BEGIN:VCALENDAR
VERSION:2.0
PRODID:-//ChamberMaster//Event Calendar 2.0//EN
METHOD:PUBLISH
X-PUBLISHED-TTL:P3D
REFRESH-INTERVAL:P3D
CALSCALE:GREGORIAN
BEGIN:VEVENT
DTSTART:20120913T230000Z
DTEND:20120914T010000Z
X-MICROSOFT-CDO-ALLDAYEVENT:FALSE
SUMMARY:Drawing with a Purpose Workshops
DESCRIPTION:Kayla Camp\, BA\, Fine Arts\, offers a two-class in Drawing With a Purpose on Thursday\, September 13 and Thursday\, September 27\, from 6 p.m. to 8 p.m.\, at the Arts and Design Society's (ADSO) Art Center Studio\, Fort Walton Beach. Cost for each session is $21/ADSO members\, $25/non-members. This class\, for all skill levels\, will focus on drawing from life and still objects with concentration on gesture and contour.  Supplies will be provided. For further information\, visit the ADSO website at  www.artsdesignsociety.org\, or call 850-244-1271 during office hours\, Tuesday-Friday 12 noon-4 p.m.
X-ALT-DESC;FMTTYPE=text/html:<p style="line-height: 13.5pt\; margin: auto 0in 7.5pt\;"><span style="font-family: palatino linotype\;">Kayla Camp\, BA\, Fine Arts\, offers a two-class in Drawing With a Purpose on Thursday\, September 13 and Thursday\, September 27\, from 6 p.m. to 8 p.m.\, at <span style="color: black\;">the Arts and Design Society&rsquo\;s (ADSO) Art Center Studio\, Fort Walton Beach. </span>Cost for each session<span style="color: black\;"> is $21/ADSO members\, $25/non-members.</span> <span style="color: #2a2a2a\;">This class\, for all skill levels\, will focus on drawing from life and still objects with concentration on gesture and contour.&nbsp\; Supplies will be provided.</span> For further information\, <span style="color: black\;">visit the ADSO website at&nbsp\; </span></span><a href="http://www.artsdesignsociety.org/"><span style="font-family: palatino linotype\; color: #0000ff\;">www.artsdesignsociety.org</span></a><span style="font-family: palatino linotype\; color: black\;">\, or call 850-244-1271 during office hours\, Tuesday-Friday 12 noon-4 p.m. </span></p>
LOCATION:17 1ST St SE\, Fort Walton Beach\, FL 32548
UID:e.3173.36
SEQUENCE:3
DTSTAMP:20260423T173704Z
URL:http://greaterfortwaltonbeach.chambermaster.com/events/details/drawing-with-a-purpose-workshops-09-13-2012-36
END:VEVENT

END:VCALENDAR
