BEGIN:VCALENDAR
VERSION:2.0
PRODID:-//ChamberMaster//Event Calendar 2.0//EN
METHOD:PUBLISH
X-PUBLISHED-TTL:P3D
REFRESH-INTERVAL:P3D
CALSCALE:GREGORIAN
BEGIN:VEVENT
DTSTART:20121011T140000Z
DTEND:20121011T210000Z
X-MICROSOFT-CDO-ALLDAYEVENT:FALSE
SUMMARY:Florals (Acrylics) Workshop
DESCRIPTION:Loretta Menendian\, whose work in various media is shown in a number of galleries\, will teach a one-day acrylics class in Florals on Thursday\, October 11\, at the Arts and Designs Society's (ADSO) Art Center\, from 9 a.m. to 4 p.m. Cost for the one-day course is $150\, members/$165 non-members. Students provide their own materials\; a list will be available at the ADSO office. For further information\, visit the ADSO website at www.artsdesignsociety.org\, or call 850-244-1271 during office hours\, Tuesday-Friday 12 noon-4 p.m.  The Art Center is located at 17 First Street\, SE\, Fort Walton Beach.
X-ALT-DESC;FMTTYPE=text/html:<p style="line-height: 13.5pt\; margin: auto 0in 7.5pt\;"><span style="font-family: palatino linotype\;">Loretta Menendian\, whose work in various media is shown in a number of galleries\, will teach a one-day acrylics class in Florals on Thursday\, October 11\, at the Arts and Designs Society's (ADSO) Art Center\, from 9 a.m. to 4 p.m. Cost for the one-day course is $150\, members/$165 non-members. Students provide their own materials\; a list will be available at the ADSO office. For further information\, <span style="color: black\;">visit the ADSO website at </span></span><a href="http://www.artsdesignsociety.org/"><span style="font-family: palatino linotype\; color: #0000ff\;">www.artsdesignsociety.org</span></a><span style="font-family: palatino linotype\;"><span style="color: black\;">\, or call 850-244-1271 during office hours\, Tuesday-Friday 12 noon-4 p.m.</span>&nbsp\; The Art Center is located at 17 First Street\, SE\, Fort Walton Beach.</span></p>
LOCATION:17 1ST St SE\, Fort Walton Beach\, FL 32548
UID:e.3173.38
SEQUENCE:3
DTSTAMP:20260421T130551Z
URL:http://greaterfortwaltonbeach.chambermaster.com/events/details/florals-acrylics-workshop-10-11-2012-38
END:VEVENT

END:VCALENDAR
