BEGIN:VCALENDAR
VERSION:2.0
PRODID:-//ChamberMaster//Event Calendar 2.0//EN
METHOD:PUBLISH
X-PUBLISHED-TTL:P3D
REFRESH-INTERVAL:P3D
CALSCALE:GREGORIAN
BEGIN:VEVENT
DTSTART:20121011T223000Z
DTEND:20121011T223000Z
X-MICROSOFT-CDO-ALLDAYEVENT:FALSE
SUMMARY:FWB Vikings ChowDown
DESCRIPTION:$5 for an All-You-Can-Eat Plate\n\n\n\nFood and Drinks\n\n\n\nHosted by Fort Walton Beach High School Leadership Program
X-ALT-DESC;FMTTYPE=text/html:$5 for an All-You-Can-Eat Plate<br />\n<br />\nFood and Drinks<br />\n<br />\nHosted by Fort Walton Beach High School Leadership Program
LOCATION:400 Hollywood Blvd SW\, Fort Walton Beach\, FL 32548
UID:e.3173.195
SEQUENCE:3
DTSTAMP:20260421T175644Z
URL:http://greaterfortwaltonbeach.chambermaster.com/events/details/fwb-vikings-chowdown-10-11-2012-195
END:VEVENT

END:VCALENDAR
