BEGIN:VCALENDAR
VERSION:2.0
PRODID:-//ChamberMaster//Event Calendar 2.0//EN
METHOD:PUBLISH
X-PUBLISHED-TTL:P3D
REFRESH-INTERVAL:P3D
CALSCALE:GREGORIAN
BEGIN:VEVENT
DTSTART:20121206T233000Z
DTEND:20130109T013000Z
X-MICROSOFT-CDO-ALLDAYEVENT:FALSE
SUMMARY:History Alive -Knitting classes
DESCRIPTION:Keep an age-old Heritage Alive! and learn the art of hand knitting at the Heritage Museum of Northwest Florida on Tuesday\, January 8\, 2013\, 5:30 p.m. – 7:30 p.m. Students will learn basic knitting stitches and create their very own scarf.    \n\nSPACE IS LIMITED!  Pre-registration required.  Call (850) 678-2615. \n$20.00 or $15 for Museum members
X-ALT-DESC;FMTTYPE=text/html:Keep an age-old Heritage Alive! and learn the art of hand knitting at the Heritage Museum of Northwest Florida on Tuesday\, January 8\, 2013\, 5:30 p.m. – 7:30 p.m. Students will learn basic knitting stitches and create their very own scarf.    \n\nSPACE IS LIMITED!  Pre-registration required.  Call (850) 678-2615. \n$20.00 or $15 for Museum members
LOCATION:Heritage Museum\, Valparaiso\, FL 32580 Take John Sims Pkwy. towards Eglin AFB. Turn left on Okaloosa Ave.(There is a Heritage Museum sign on the corner--across from the Tom Thumb). Stay on Okaloosa Ave. until it dead ends on Westview. Turn right and the Museum is on the right across from Perrine Park.
UID:e.3173.367
SEQUENCE:3
DTSTAMP:20260422T111802Z
URL:http://greaterfortwaltonbeach.chambermaster.com/events/details/history-alive-knitting-classes-12-06-2012-367
END:VEVENT

END:VCALENDAR
