BEGIN:VCALENDAR
VERSION:2.0
PRODID:-//ChamberMaster//Event Calendar 2.0//EN
METHOD:PUBLISH
X-PUBLISHED-TTL:P3D
REFRESH-INTERVAL:P3D
CALSCALE:GREGORIAN
BEGIN:VEVENT
DTSTART:20121023T220000Z
DTEND:20121024T000000Z
X-MICROSOFT-CDO-ALLDAYEVENT:FALSE
SUMMARY:Pine Needle Basketry Class
DESCRIPTION:Pine Needle Basketry Class offered in OCTOBER at the \nHeritage Museum of Northwest Florida \n \nEarly Native Americans in the region wove abundant longleaf pine needles into beautiful and useful baskets. \nLearn an age-old skill using original Seminole techniques and local pine needles to create something uniquely yours at the Heritage Museum of Northwest Florida!  \nPine Needle Basketry (2-part class) Tuesday evenings\, Oct. 23 & 30 at 5 p.m.- 7 p.m.  \n\nThe cost is $55 or\, $50 for Museum members.  (Materials included)\nSPACE IS LIMITED.  Payment due at registration.  Call (850) 678-2615. \nThe Heritage Museum of Northwest Florida keeps traditional crafts alive through its popular Heritage Alive! Craft series. \n \nDate:               Tuesdays - October 23 & 30\n\nTime:               5 p.m.   7 p.m.\n\nLocation:         Heritage Museum of Northwest Florida\n\n                        115 Westview Avenue\, Valparaiso \n\nCost:                $55 or $50 for Museum Members\n\nContact:          (850) 678-2615
X-ALT-DESC;FMTTYPE=text/html:<p><b><span style="font-size: 16pt\;">Pine Needle Basketry Class offered in OCTOBER at the </span></b></p>\n<p><b><i><span style="font-size: 16pt\;">Heritage Museum of Northwest Florida</span></i></b><b> </b></p>\n<p>&nbsp\;</p>\n<p>Early Native Americans in the region wove abundant longleaf pine needles into beautiful and useful baskets.&nbsp\;</p>\n<p>Learn an age-old skill using original Seminole techniques and local pine needles to create something uniquely yours at the <i>Heritage Museum of Northwest Florida</i>!&nbsp\; </p>\n<p ><b>Pine Needle Basketry</b> (2-part class) <span style="text-decoration: underline\;">Tuesday evenings\, Oct. 23 &amp\; 30 at 5 p.m.- 7 p.m.</span>&nbsp\; </p>\n<p style="text-align: center\;"><b></b></p>\n<p>The cost is $55 or\, $50 for Museum members.&nbsp\; (<i>Materials included</i>)</p>\n<p style="margin: 0in 0in 12pt\;">SPACE IS LIMITED.&nbsp\; Payment due at registration.&nbsp\; Call (850) 678-2615. </p>\n<p><i>The Heritage Museum of Northwest Florida keeps traditional crafts alive through its popular Heritage Alive! Craft series. </i></p>\n<p>&nbsp\;</p>\n<p>Date:&nbsp\;&nbsp\;&nbsp\;&nbsp\;&nbsp\;&nbsp\;&nbsp\;&nbsp\;&nbsp\;&nbsp\;&nbsp\;&nbsp\;&nbsp\;&nbsp\; Tuesdays - October 23 &amp\; 30<br />\nTime:&nbsp\;&nbsp\;&nbsp\;&nbsp\;&nbsp\;&nbsp\;&nbsp\;&nbsp\;&nbsp\;&nbsp\;&nbsp\;&nbsp\;&nbsp\;&nbsp\; 5 p.m. &ndash\; 7 p.m.<br />\nLocation:&nbsp\;&nbsp\;&nbsp\;&nbsp\;&nbsp\;&nbsp\;&nbsp\;&nbsp\; Heritage Museum of Northwest Florida<br />\n&nbsp\;&nbsp\;&nbsp\;&nbsp\;&nbsp\;&nbsp\;&nbsp\;&nbsp\;&nbsp\;&nbsp\;&nbsp\;&nbsp\;&nbsp\;&nbsp\;&nbsp\;&nbsp\;&nbsp\;&nbsp\;&nbsp\;&nbsp\;&nbsp\;&nbsp\;&nbsp\; 115 Westview Avenue\, Valparaiso <br />\nCost:&nbsp\;&nbsp\;&nbsp\;&nbsp\;&nbsp\;&nbsp\;&nbsp\;&nbsp\;&nbsp\;&nbsp\;&nbsp\;&nbsp\;&nbsp\;&nbsp\;&nbsp\; $55 or $50 for Museum Members<br />\nContact:&nbsp\;&nbsp\;&nbsp\;&nbsp\;&nbsp\;&nbsp\;&nbsp\;&nbsp\;&nbsp\; (850) 678-2615&nbsp\;&nbsp\;&nbsp\;&nbsp\;&nbsp\;&nbsp\;&nbsp\;&nbsp\;&nbsp\;&nbsp\; </p>
LOCATION:115 Westview Ave\, Valparaiso\, FL 32580
UID:e.3173.235
SEQUENCE:3
DTSTAMP:20260421T130551Z
URL:http://greaterfortwaltonbeach.chambermaster.com/events/details/pine-needle-basketry-class-10-23-2012-235
END:VEVENT

END:VCALENDAR
