BEGIN:VCALENDAR
VERSION:2.0
PRODID:-//ChamberMaster//Event Calendar 2.0//EN
METHOD:PUBLISH
X-PUBLISHED-TTL:P3D
REFRESH-INTERVAL:P3D
CALSCALE:GREGORIAN
BEGIN:VEVENT
DTSTART:20121021T190000Z
DTEND:20121021T210000Z
X-MICROSOFT-CDO-ALLDAYEVENT:FALSE
SUMMARY:Wine & Cheese Reception
DESCRIPTION:Yellow River Winery and Wine Bar is hosting a Wine and Cheese Reception to benefit the Emerald Coast Wildlife Refuge. Please join us for a relaxing afternoon mingling with friends\, meeting our live animal ambassadors and learning about our important mission of education\, conservation and rehabilitation for the welfare of Florida's natural fauna. There will be live entertainment\, a silent auction\, finger foods featuring an excellent selection of cheeses and beverages including Yellow River's locally-made southern wine along with other selections. Tickets are $15 individually or 2 for $25.00 and can be purchased at the refuge\, online at www.ecwildliferefuge.com or at https://www.facebook.com/emeraldcoastwildliferefuge/app_4949752878. Please call the refuge at (850)650-1880 for further information.
X-ALT-DESC;FMTTYPE=text/html:Yellow River Winery and Wine Bar is hosting a Wine and Cheese Reception to benefit the Emerald Coast Wildlife Refuge. Please join us for a relaxing afternoon mingling with friends\, meeting our live animal ambassadors and learning about our important mission of education\, conservation and rehabilitation for the welfare of Florida's natural fauna. There will be live entertainment\, a silent auction\, finger foods featuring an excellent selection of cheeses and beverages including Yellow River's locally-made southern wine along with other selections. Tickets are $15 individually or 2 for $25.00 and can be purchased at the refuge\, online at www.ecwildliferefuge.com or at https://www.facebook.com/emeraldcoastwildliferefuge/app_4949752878. Please call the refuge at (850)650-1880 for further information.
LOCATION:Yellow River Winery and Wine Bar\, Crestview\, FL 32536 Yellow River Winery and Wine Bar
UID:e.3173.240
SEQUENCE:3
DTSTAMP:20260420T215937Z
URL:http://greaterfortwaltonbeach.chambermaster.com/events/details/wine-cheese-reception-10-21-2012-240
END:VEVENT

END:VCALENDAR
