BEGIN:VCALENDAR
VERSION:2.0
PRODID:-//ChamberMaster//Event Calendar 2.0//EN
METHOD:PUBLISH
X-PUBLISHED-TTL:P3D
REFRESH-INTERVAL:P3D
CALSCALE:GREGORIAN
BEGIN:VEVENT
DTSTART:20121027T140000Z
DTEND:20121027T140000Z
X-MICROSOFT-CDO-ALLDAYEVENT:FALSE
SUMMARY:Zombie Mud Run
DESCRIPTION:A portion of the proceeds benefit Children in Crisis. Loads of fun\, mud and sweet obstacles! Once the train horns sound\, you'll make your way along a well-marked course that is approximately 5k in length (that's just over 3 miles for those of you not up on the Kilometer thing). So run\, skip\, jog or yog. Soon\, you'll arrive at the first of several obstacles designed to test your physical and mental stamina. Your goal: Get over/through/under the obstacle and run to the next one while being chased by zombies. If you think this is one of those kill you on the course challenges then your wrong! This event is for all skill levels. Whether your a Couch to 5K person or a avid obstacle coarse runner. All skill levels will be able to participate in this event.
X-ALT-DESC;FMTTYPE=text/html:A portion of the proceeds benefit Children in Crisis. Loads of fun\, mud and sweet obstacles! Once the train horns sound\, you'll make your way along a well-marked course that is approximately 5k in length (that's just over 3 miles for those of you not up on the Kilometer thing). So run\, skip\, jog or yog. Soon\, you'll arrive at the first of several obstacles designed to test your physical and mental stamina. Your goal: Get over/through/under the obstacle and run to the next one while being chased by zombies. If you think this is one of those kill you on the course challenges then your wrong! This event is for all skill levels. Whether your a Couch to 5K person or a avid obstacle coarse runner. All skill levels will be able to participate in this event. 
LOCATION:1958 Lewis Turner Boulevard Fort Walton Beach\, Fort Walton Beach\, FL 32547 Northwest Florida Fairground in FWB
UID:e.3173.241
SEQUENCE:3
DTSTAMP:20260420T215937Z
URL:http://greaterfortwaltonbeach.chambermaster.com/events/details/zombie-mud-run-10-27-2012-241
END:VEVENT

END:VCALENDAR
